BEGIN:VCALENDAR
VERSION:2.0
PRODID:-//marsouins - ECPv6.15.20//NONSGML v1.0//EN
CALSCALE:GREGORIAN
METHOD:PUBLISH
X-WR-CALNAME:marsouins
X-ORIGINAL-URL:https://marsouins.ch
X-WR-CALDESC:Évènements pour marsouins
REFRESH-INTERVAL;VALUE=DURATION:PT1H
X-Robots-Tag:noindex
X-PUBLISHED-TTL:PT1H
BEGIN:VTIMEZONE
TZID:Europe/Zurich
BEGIN:DAYLIGHT
TZOFFSETFROM:+0100
TZOFFSETTO:+0200
TZNAME:CEST
DTSTART:20240331T010000
END:DAYLIGHT
BEGIN:STANDARD
TZOFFSETFROM:+0200
TZOFFSETTO:+0100
TZNAME:CET
DTSTART:20241027T010000
END:STANDARD
BEGIN:DAYLIGHT
TZOFFSETFROM:+0100
TZOFFSETTO:+0200
TZNAME:CEST
DTSTART:20250330T010000
END:DAYLIGHT
BEGIN:STANDARD
TZOFFSETFROM:+0200
TZOFFSETTO:+0100
TZNAME:CET
DTSTART:20251026T010000
END:STANDARD
BEGIN:DAYLIGHT
TZOFFSETFROM:+0100
TZOFFSETTO:+0200
TZNAME:CEST
DTSTART:20260329T010000
END:DAYLIGHT
BEGIN:STANDARD
TZOFFSETFROM:+0200
TZOFFSETTO:+0100
TZNAME:CET
DTSTART:20261025T010000
END:STANDARD
END:VTIMEZONE
BEGIN:VEVENT
DTSTART;VALUE=DATE:20250531
DTEND;VALUE=DATE:20250602
DTSTAMP:20260423T224921
CREATED:20241023T095112Z
LAST-MODIFIED:20241023T095112Z
UID:15026-1748649600-1748822399@marsouins.ch
SUMMARY:Meeting Jack Kaeser
DESCRIPTION:
URL:https://marsouins.ch/cal/meeting-jack-kaeser
LOCATION:Bulle
CATEGORIES:Meeting
END:VEVENT
BEGIN:VEVENT
DTSTART;VALUE=DATE:20250614
DTEND;VALUE=DATE:20250616
DTSTAMP:20260423T224921
CREATED:20241023T095156Z
LAST-MODIFIED:20241023T095156Z
UID:15028-1749859200-1750031999@marsouins.ch
SUMMARY:Meeting du Lac
DESCRIPTION:
URL:https://marsouins.ch/cal/meeting-du-lac
LOCATION:Vevey\, Route de Lavaux 19\, Corseaux\, Vaud\, 1802\, Suisse
CATEGORIES:Meeting
END:VEVENT
END:VCALENDAR