BEGIN:VCALENDAR
VERSION:2.0
PRODID:-//marsouins - ECPv6.15.20//NONSGML v1.0//EN
CALSCALE:GREGORIAN
METHOD:PUBLISH
X-WR-CALNAME:marsouins
X-ORIGINAL-URL:https://marsouins.ch
X-WR-CALDESC:Évènements pour marsouins
REFRESH-INTERVAL;VALUE=DURATION:PT1H
X-Robots-Tag:noindex
X-PUBLISHED-TTL:PT1H
BEGIN:VTIMEZONE
TZID:Europe/Zurich
BEGIN:DAYLIGHT
TZOFFSETFROM:+0100
TZOFFSETTO:+0200
TZNAME:CEST
DTSTART:20230326T010000
END:DAYLIGHT
BEGIN:STANDARD
TZOFFSETFROM:+0200
TZOFFSETTO:+0100
TZNAME:CET
DTSTART:20231029T010000
END:STANDARD
BEGIN:DAYLIGHT
TZOFFSETFROM:+0100
TZOFFSETTO:+0200
TZNAME:CEST
DTSTART:20240331T010000
END:DAYLIGHT
BEGIN:STANDARD
TZOFFSETFROM:+0200
TZOFFSETTO:+0100
TZNAME:CET
DTSTART:20241027T010000
END:STANDARD
BEGIN:DAYLIGHT
TZOFFSETFROM:+0100
TZOFFSETTO:+0200
TZNAME:CEST
DTSTART:20250330T010000
END:DAYLIGHT
BEGIN:STANDARD
TZOFFSETFROM:+0200
TZOFFSETTO:+0100
TZNAME:CET
DTSTART:20251026T010000
END:STANDARD
END:VTIMEZONE
BEGIN:VEVENT
DTSTART;VALUE=DATE:20241103
DTEND;VALUE=DATE:20241104
DTSTAMP:20260424T075624
CREATED:20240904T120613Z
LAST-MODIFIED:20240904T120613Z
UID:14932-1730592000-1730678399@marsouins.ch
SUMMARY:Meeting Halloween
DESCRIPTION:
URL:https://marsouins.ch/cal/meeting-halloween
LOCATION:Piscine Ollon\, Rue du Collège 14\, Ollon\, Vaud\, 1867\, Suisse
CATEGORIES:Manifestation,Meeting
ORGANIZER;CN="Marsouins Aigle":MAILTO:vicepresident@marsouins.ch
END:VEVENT
BEGIN:VEVENT
DTSTART;VALUE=DATE:20241122
DTEND;VALUE=DATE:20241125
DTSTAMP:20260424T075624
CREATED:20241023T093826Z
LAST-MODIFIED:20241023T093826Z
UID:14993-1732233600-1732492799@marsouins.ch
SUMMARY:Critérium Romand Hiver
DESCRIPTION:
URL:https://marsouins.ch/cal/criterium-romand-hiver
CATEGORIES:Meeting
END:VEVENT
END:VCALENDAR